
BEGIN:VCALENDAR
PRODID:PHP
X-WR-TIMEZONE:Europe/Madrid
VERSION:2.0
METHOD:PUBLISH
X-WR-CALNAME:IX Feria de proveedores AVALCO
X-ORIGINAL-URL:https://valvulasarco.com/
X-WR-CALDESC:IX Feria de proveedores AVALCO
BEGIN:VEVENT
UID:7788
CREATED:20260425T134141Z
DTSTAMP:20260425T134141Z
DTSTART:20220922T090500Z
DTEND:20220922T090500Z
DESCRIPTION:Válvulas Arco asistirá a la IX Feria de proveedores AVALCO el próximo 22 de septiembre en Bilbao
SUMMARY:IX Feria de proveedores AVALCO
DESCRIPTION:IX Feria de proveedores AVALCO
URL:https://valvulasarco.com/
LOCATION:
ATTENDEE;RSVP=TRUE:mailto:info@info.es
ORGANIZER;CN=ARCO:mailto:info@info.es
LAST-MODIFIED:20120922T090500Z
PRIORITY:5
SEQUENCE:0
STATUS:CONFIRMED
TRANSP:TRANSPARENT
END:VEVENT
END:VCALENDAR
